BEGIN:VCALENDAR
VERSION:2.0
PRODID:-//ChamberMaster//Event Calendar 2.0//EN
METHOD:PUBLISH
X-PUBLISHED-TTL:P3D
REFRESH-INTERVAL:P3D
CALSCALE:GREGORIAN
BEGIN:VEVENT
DTSTART;VALUE=DATE:20100321
DTEND;VALUE=DATE:20100322
TRANSP:TRANSPARENT
X-MICROSOFT-CDO-ALLDAYEVENT:TRUE
SUMMARY:Gun Club Green Rock Shoot
DESCRIPTION:Beatrice Gun Club will host a St. Patrick's Day Green Rock Trophy ShootSunday\, March 21\, 2010 Entries open at 12:30 p.m. and close at 2 p.m. Program will start at 1 p.m. Two events:  25 16-yard targets and 25 handicap targets. Classes will include A\, B\, C\, ladies\, vets and juniors. Entry Fee: $12
X-ALT-DESC;FMTTYPE=text/html:<div>Beatrice Gun Club will host a St. Patrick's Day Green Rock Trophy Shoot</div><div>Sunday\, March 21\, 2010</div><div>&nbsp\;</div><div>Entries open at 12:30 p.m. and close at 2 p.m.</div><div>&nbsp\;</div><div>Program will start at 1 p.m.</div><div>&nbsp\;</div><div>Two events:&nbsp\; 25 16-yard targets and 25 handicap targets.</div><div>&nbsp\;</div><div>Classes will include A\, B\, C\, ladies\, vets and juniors.</div><div>&nbsp\;</div><div>Entry Fee: $12</div>
LOCATION:
UID:e.41.1684
SEQUENCE:3
DTSTAMP:20260425T153216Z
URL:https://business.beatricechamber.com/events/details/gun-club-green-rock-shoot-03-21-2010-1684
END:VEVENT

END:VCALENDAR
