BEGIN:VCALENDAR
VERSION:2.0
PRODID:-//ChamberMaster//Event Calendar 2.0//EN
METHOD:PUBLISH
X-PUBLISHED-TTL:P3D
REFRESH-INTERVAL:P3D
CALSCALE:GREGORIAN
BEGIN:VEVENT
DTSTART:20090927T180000Z
DTEND:20090927T210000Z
X-MICROSOFT-CDO-ALLDAYEVENT:FALSE
SUMMARY:Gun Club Trap Shoot - Michael Pinkerton Memorial
DESCRIPTION:The Beatrice Gun Club will host the 3rd Annual Michael Pinkerton Memorial Trap Shoot on Sunday\, Sept. 27.Registration opens at Noon\, with the competition starting at 1 p.m. Entries will close at 7 p.m.\n\nThe program will include 25 16-yard targets\, 25 Dutch H/C targets  Time permitting\, there will also be a snipe shoot.Entry fee is $50 for adults and $40 for students \n\nTop Gun Prizes will be awarded to the first & second places in three Lewis Classes.\n\nThe event is sponsored by the Pinkerton Family with proceed to the alpha Gamma Rho Fraternity Scholarship fund. \nThe Beatrice Gun Club is located 1 1/4 miles west of Beatrice\, just off Nebraska Highway 4
X-ALT-DESC;FMTTYPE=text/html:<div><p>The Beatrice Gun Club will host the 3rd Annual Michael Pinkerton Memorial Trap Shoot on Sunday\,&nbsp\;Sept. 27.</p><div class="storyAd-300x250"><!-- AdSys ad not found for sports/local:in_story --></div><p>Registration opens at Noon\, with the competition starting at&nbsp\;1 p.m. Entries will close at 7 p.m.<br /><br />The program will include 25 16-yard targets\, 25 Dutch H/C targets&nbsp\; Time permitting\, there will also be a snipe shoot.</p><p>Entry fee is $50 for adults and $40 for students&nbsp\;<br /><br />Top Gun Prizes will be awarded to the first &amp\; second places in three Lewis Classes.<br /><br />The event is sponsored by the Pinkerton Family with proceed to the alpha Gamma Rho Fraternity Scholarship fund. <br />The Beatrice Gun Club is located 1 1/4 miles west of Beatrice\, just off Nebraska Highway 4</p></div>
LOCATION:
UID:e.41.1456
SEQUENCE:3
DTSTAMP:20260425T234307Z
URL:https://business.beatricechamber.com/events/details/gun-club-trap-shoot-michael-pinkerton-memorial-09-27-2009-1456
END:VEVENT

END:VCALENDAR
