BEGIN:VCALENDAR
VERSION:2.0
PRODID:-//ChamberMaster//Event Calendar 2.0//EN
METHOD:PUBLISH
X-PUBLISHED-TTL:P3D
REFRESH-INTERVAL:P3D
CALSCALE:GREGORIAN
BEGIN:VEVENT
DTSTART:20091212T150000Z
DTEND:20091212T180000Z
X-MICROSOFT-CDO-ALLDAYEVENT:FALSE
SUMMARY:H1N1 Influence Shot Clinic
DESCRIPTION:H1N1 Influenza Shot Clinic Priority Criteria\n\n?bPregnant women \n\n?bChildren 6 months to 24 years (particularly those under 4 and those with health conditions)\n\n?bHospital\, health care facility and clinic direct health care providers\n\n?bCaretakers of babies less than 6 months of age\n\n?bAdults 25 to 65 with significant health conditions (those with lung problems\, neurological conditions\, or weakened immune systems are most at risk)
X-ALT-DESC;FMTTYPE=text/html:H1N1 Influenza Shot Clinic Priority Criteria\n<br>?bPregnant women \n<br>?bChildren 6 months to 24 years (particularly those under 4 and those with health conditions)\n<br>?bHospital\, health care facility and clinic direct health care providers\n<br>?bCaretakers of babies less than 6 months of age\n<br>?bAdults 25 to 65 with significant health conditions (those with lung problems\, neurological conditions\, or weakened immune systems are most at risk)\n<br>
LOCATION:Deines Pharmacy 910 Court Street
UID:e.41.1557
SEQUENCE:3
DTSTAMP:20260425T194215Z
URL:https://business.beatricechamber.com/events/details/h1n1-influence-shot-clinic-12-12-2009-1557
END:VEVENT

END:VCALENDAR
