BEGIN:VCALENDAR
VERSION:2.0
PRODID:-//ChamberMaster//Event Calendar 2.0//EN
METHOD:PUBLISH
X-PUBLISHED-TTL:P3D
REFRESH-INTERVAL:P3D
CALSCALE:GREGORIAN
BEGIN:VEVENT
DTSTART:20110615T213000Z
DTEND:20110616T000000Z
X-MICROSOFT-CDO-ALLDAYEVENT:FALSE
SUMMARY:Habitat for Humanity Fundraiser & Homestead Days Parade Grand Marshall
DESCRIPTION:Habitat for Humanity fundraiser and Homestead Days Parade Grand Marshall announcement will be held from 4:30 p.m.-7:00 p.m. at the Centenary United Methodist Church.  The Centenary United Methodist Church is located at 6th and Elk Street\, Beatrice.\n\n\n\nTickets are $7 and beef sandwiches\, cole slaw\, chips\, cookies and drinks will be served.  Tickets are also available at the door.\n\n\n\nFor more information call 402-223-3424.
X-ALT-DESC;FMTTYPE=text/html:Habitat for Humanity fundraiser and Homestead Days Parade Grand Marshall announcement will be held from 4:30 p.m.-7:00 p.m. at the Centenary United Methodist Church.&nbsp\; The Centenary United Methodist Church is located&nbsp\;at 6th and Elk Street\, Beatrice.<br />\n<br />\nTickets are $7 and beef sandwiches\, cole slaw\, chips\, cookies and drinks will be served.&nbsp\; Tickets are also available at the door.<br />\n<br />\nFor more information call 402-223-3424.
LOCATION:
UID:e.41.4879
SEQUENCE:3
DTSTAMP:20260424T165925Z
URL:https://business.beatricechamber.com/events/details/habitat-for-humanity-fundraiser-homestead-days-parade-grand-marshall-06-15-2011-4879
END:VEVENT

END:VCALENDAR
