BEGIN:VCALENDAR
VERSION:2.0
PRODID:-//ChamberMaster//Event Calendar 2.0//EN
METHOD:PUBLISH
X-PUBLISHED-TTL:P3D
REFRESH-INTERVAL:P3D
CALSCALE:GREGORIAN
BEGIN:VEVENT
DTSTART:20090726T163000Z
DTEND:20090726T183000Z
X-MICROSOFT-CDO-ALLDAYEVENT:FALSE
SUMMARY:Habitat for Humanity Open House
DESCRIPTION:Open House at Habitat for Humanity HomeOpenHouse sunday at the newest Habitate home at1509 Ella StreetBeatrice Community is invited from 11:30 am - 1:30 pm\, with theHouse Blessing conducted at 1:00 pm
X-ALT-DESC;FMTTYPE=text/html:<div>Open House at Habitat for Humanity Home</div><div>OpenHouse sunday at the newest Habitate home at</div><div>1509 Ella Street</div><div>Beatrice</div><div>&nbsp\;</div><div>Community is invited from 11:30 am - 1:30 pm\, with the</div><div>House Blessing conducted at 1:00 pm</div><div>&nbsp\;</div>
LOCATION:
UID:e.41.1319
SEQUENCE:3
DTSTAMP:20260426T030126Z
URL:https://business.beatricechamber.com/events/details/habitat-for-humanity-open-house-07-26-2009-1319
END:VEVENT

END:VCALENDAR
