BEGIN:VCALENDAR
VERSION:2.0
PRODID:-//ChamberMaster//Event Calendar 2.0//EN
METHOD:PUBLISH
X-PUBLISHED-TTL:P3D
REFRESH-INTERVAL:P3D
CALSCALE:GREGORIAN
BEGIN:VEVENT
DTSTART:20101205T190000Z
DTEND:20101205T200000Z
X-MICROSOFT-CDO-ALLDAYEVENT:FALSE
SUMMARY:Habitat for Humanity Open House
DESCRIPTION:The Habitat for Humanity and Ernest and Neva Jantzen will host an open house Sunday to showcase impronements to the Jantzen's House.\n\n\n\nThe event will kickoff with a house blessing.\n\n\n\nThe brick house is located at 423 N. 12th St.\n\n\n\nAnyone who could use the Habitat for Humanities' help\, or knows someone who could\, is encouraged to call the Gage County Habitat for Humanity office at 228-4576.
X-ALT-DESC;FMTTYPE=text/html:<strong>The Habitat for Humanity and Ernest and Neva Jantzen will host an open house Sunday to showcase impronements to the Jantzen&#39\;s House.<br />\n<br />\nThe event will kickoff with a house blessing.<br />\n<br />\nThe brick house is located at 423 N. 12th St.<br />\n<br />\nAnyone who could use the Habitat for Humanities&#39\; help\, or knows someone who could\, is encouraged to call the Gage County Habitat for Humanity office at 228-4576.</strong><br />\n
LOCATION:
UID:e.41.2887
SEQUENCE:3
DTSTAMP:20260425T015039Z
URL:https://business.beatricechamber.com/events/details/habitat-for-humanity-open-house-12-05-2010-2887
END:VEVENT

END:VCALENDAR
