BEGIN:VCALENDAR
VERSION:2.0
PRODID:-//ChamberMaster//Event Calendar 2.0//EN
METHOD:PUBLISH
X-PUBLISHED-TTL:P3D
REFRESH-INTERVAL:P3D
CALSCALE:GREGORIAN
BEGIN:VEVENT
DTSTART;VALUE=DATE:20110804
DTEND;VALUE=DATE:20110805
TRANSP:TRANSPARENT
X-MICROSOFT-CDO-ALLDAYEVENT:TRUE
SUMMARY:Half-Price Sales at Bargain Box
DESCRIPTION:Sizzling sales are taking place at the Bargain Box August 4\,6\,11\, and 13 at the thrift store\, 117 S. 5th St.\, Beatrice.  Half-price sales are being offered during store hours\, 9:30 a.m.-6:30 p.m. Thursdays\, and 9:30 a.m.-12:30 p.m. Saturdays.  Fall and winter merchandise will be available at the store August 18.\n\n\n\nProceeds benefit the residents of Mosaic in Beatrice\, a facility providing services to individuals with developmental disabilities.
X-ALT-DESC;FMTTYPE=text/html:Sizzling sales are taking place at the Bargain Box August 4\,6\,11\, and 13 at the thrift store\, 117 S.&nbsp\;5th St.\, Beatrice.&nbsp\; Half-price sales are being offered during store hours\, 9:30 a.m.-6:30 p.m. Thursdays\, and 9:30 a.m.-12:30 p.m. Saturdays.&nbsp\; Fall and winter merchandise will be available at the store August 18.<br />\n<br />\nProceeds benefit the residents of Mosaic in Beatrice\, a facility providing services to individuals with developmental disabilities.
LOCATION:
UID:e.41.4996
SEQUENCE:3
DTSTAMP:20260424T134618Z
URL:https://business.beatricechamber.com/events/details/half-price-sales-at-bargain-box-08-04-2011-4996
END:VEVENT

END:VCALENDAR
