BEGIN:VCALENDAR
VERSION:2.0
PRODID:-//ChamberMaster//Event Calendar 2.0//EN
METHOD:PUBLISH
X-PUBLISHED-TTL:P3D
REFRESH-INTERVAL:P3D
CALSCALE:GREGORIAN
BEGIN:VEVENT
DTSTART:20100414T220000Z
DTEND:20100415T020000Z
X-MICROSOFT-CDO-ALLDAYEVENT:FALSE
SUMMARY:Hamburger Night
DESCRIPTION:Hamburger Night All proceeds to the 2010 Gage County Relay For Life Wednesday\, April 14\, 20105 pm - 9 pmGibb's Place\, South Sixth Street
X-ALT-DESC;FMTTYPE=text/html:<div>Hamburger Night</div><div>&nbsp\;</div><div>All proceeds to the 2010 Gage County Relay For Life</div><div>&nbsp\;</div><div>Wednesday\, April 14\, 2010</div><div>5 pm - 9 pm</div><div>Gibb's Place\, South Sixth Street</div>
LOCATION:
UID:e.41.1954
SEQUENCE:3
DTSTAMP:20260425T135032Z
URL:https://business.beatricechamber.com/events/details/hamburger-night-04-14-2010-1954
END:VEVENT

END:VCALENDAR
