BEGIN:VCALENDAR
VERSION:2.0
PRODID:-//ChamberMaster//Event Calendar 2.0//EN
METHOD:PUBLISH
X-PUBLISHED-TTL:P3D
REFRESH-INTERVAL:P3D
CALSCALE:GREGORIAN
BEGIN:VEVENT
DTSTART:20100210T230000Z
DTEND:20100211T030000Z
X-MICROSOFT-CDO-ALLDAYEVENT:FALSE
SUMMARY:Hamburger Night Relay For Life
DESCRIPTION:American Cancer Society - Relay for Life"Hamburger Night" at Gibbs Place Wednesday\, February 105 p.m. - 9 p.m. Gibb's1101 S. 6th StreetBeatrice\, NE Hamburgers\, chips\, and pop will be served for a $5 donation.  All proceeds will go toward this year's Relay For Life event\, which is April 30-May1.
X-ALT-DESC;FMTTYPE=text/html:<div><span style="font-size: medium">American Cancer Society - Relay for Life</span></div><div><span style="font-size: medium">&quot\;Hamburger Night&quot\; at Gibbs Place</span></div><div>&nbsp\;</div><div><span style="font-size: medium">Wednesday\, February 10</span></div><div><span style="font-size: medium">5 p.m. - 9 p.m.</span></div><div>&nbsp\;</div><div><span style="font-size: medium">Gibb's</span></div><div><span style="font-size: medium">1101 S. 6th Street</span></div><div><span style="font-size: medium">Beatrice\, NE</span></div><div>&nbsp\;</div><div><span style="font-size: medium">Hamburgers\, chips\, and pop will be served for a $5 donation.&nbsp\; All proceeds will go toward this year's Relay For Life event\, which is April 30-May1.</span></div><div>&nbsp\;</div><div>&nbsp\;</div>
LOCATION:
UID:e.41.1639
SEQUENCE:3
DTSTAMP:20260425T165420Z
URL:https://business.beatricechamber.com/events/details/hamburger-night-relay-for-life-02-10-2010-1639
END:VEVENT

END:VCALENDAR
