BEGIN:VCALENDAR
VERSION:2.0
PRODID:-//ChamberMaster//Event Calendar 2.0//EN
METHOD:PUBLISH
X-PUBLISHED-TTL:P3D
REFRESH-INTERVAL:P3D
CALSCALE:GREGORIAN
BEGIN:VEVENT
DTSTART;VALUE=DATE:20100619
DTEND;VALUE=DATE:20100620
TRANSP:TRANSPARENT
X-MICROSOFT-CDO-ALLDAYEVENT:TRUE
SUMMARY:Hamburgers & Brats and all the fixin's
DESCRIPTION:Hamburgers\, brats and all the fixin's - beans\, macaroni salad\, potato salad\, and drink June 19\, 2010Immediately following Homestead Days parade The Rail212 Court StreetBeatrice $6.00  - Tickets can be purchased in advance by calling The Rail at 228-9857 or Diana at 228-6720. Sponsored by the One Stop Community Resource Center and The Rail.  Portion of the proceeds will go to the American Cancer Society/Gage County Relay for Life.
X-ALT-DESC;FMTTYPE=text/html:<div><span style="font-size: small">Hamburgers\, brats and all the fixin's - beans\, macaroni salad\, potato salad\, and drink</span></div><div>&nbsp\;</div><div><span style="font-size: small">June 19\, 2010</span></div><div><span style="font-size: small">Immediately following Homestead Days parade</span></div><div>&nbsp\;</div><div><span style="font-size: small">The Rail</span></div><div><span style="font-size: small">212 Court Street</span></div><div><span style="font-size: small">Beatrice</span></div><div>&nbsp\;</div><div><span style="font-size: small">$6.00&nbsp\; - Tickets can be purchased in advance by calling The Rail at 228-9857 or Diana at 228-6720.</span></div><div>&nbsp\;</div><div><span style="font-size: small">Sponsored by the One Stop Community Resource Center and The Rail.&nbsp\;&nbsp\;Portion of the proceeds will go to the American Cancer Society/Gage County&nbsp\;Relay for Life.</span></div>
LOCATION:
UID:e.41.2022
SEQUENCE:3
DTSTAMP:20260425T105756Z
URL:https://business.beatricechamber.com/events/details/hamburgers-brats-and-all-the-fixin-s-06-19-2010-2022
END:VEVENT

END:VCALENDAR
