BEGIN:VCALENDAR
VERSION:2.0
PRODID:-//ChamberMaster//Event Calendar 2.0//EN
METHOD:PUBLISH
X-PUBLISHED-TTL:P3D
REFRESH-INTERVAL:P3D
CALSCALE:GREGORIAN
BEGIN:VEVENT
DTSTART:20090627T220000Z
DTEND:20090627T060000Z
X-MICROSOFT-CDO-ALLDAYEVENT:FALSE
SUMMARY:Hanover Independence Day Celebration
DESCRIPTION:Hanover Grounds is where the celebration is at in HanoverBeer Garden 5 pm - MidnightBBQ  6 pm - DarkMusic - Family Entertainment  7:30 - 9:30 pmFIREWORKS - TNT at 10 pmDance to The Midnight Express after the fireworks until 1 am
X-ALT-DESC;FMTTYPE=text/html:<div>Hanover Grounds is where the celebration is at in Hanover</div><div>Beer Garden 5 pm - Midnight</div><div>BBQ&nbsp\; 6 pm - Dark</div><div>Music - Family Entertainment&nbsp\; 7:30 - 9:30 pm</div><div>FIREWORKS - TNT&nbsp\;at 10 pm</div><div>Dance to The Midnight Express after the fireworks until 1 am</div>
LOCATION:
UID:e.41.1262
SEQUENCE:3
DTSTAMP:20260426T042724Z
URL:https://business.beatricechamber.com/events/details/hanover-independence-day-celebration-06-27-2009-1262
END:VEVENT

END:VCALENDAR
