BEGIN:VCALENDAR
VERSION:2.0
PRODID:-//ChamberMaster//Event Calendar 2.0//EN
METHOD:PUBLISH
X-PUBLISHED-TTL:P3D
REFRESH-INTERVAL:P3D
CALSCALE:GREGORIAN
BEGIN:VEVENT
DTSTART;VALUE=DATE:20110723
DTEND;VALUE=DATE:20110724
TRANSP:TRANSPARENT
X-MICROSOFT-CDO-ALLDAYEVENT:TRUE
SUMMARY:Hanover Independence Day Celebration
DESCRIPTION:Hanover Independence Day Celebration is July 23.  Beer garden 5 p.m.-midnight\; Barbecue 6 p.m.-dark\; Family Entertainment 7:30 p.m.-9:30 p.m.\; Fireworks 10 p.m.\; Dance is after firewords to 1 a.m.  The band featured is The Taylor Kline Band.  If inclement weather arises (rain delay)\, the celebration will be held July 24\, 2011.
X-ALT-DESC;FMTTYPE=text/html:Hanover Independence Day Celebration is July 23.&nbsp\; Beer garden 5 p.m.-midnight\; Barbecue 6 p.m.-dark\; Family Entertainment 7:30 p.m.-9:30 p.m.\; Fireworks 10 p.m.\; Dance is after firewords to 1 a.m.&nbsp\; The band featured is The Taylor Kline Band.&nbsp\; If inclement weather arises (rain delay)\, the celebration will be held July 24\, 2011.
LOCATION:
UID:e.41.4977
SEQUENCE:3
DTSTAMP:20260424T152950Z
URL:https://business.beatricechamber.com/events/details/hanover-independence-day-celebration-07-23-2011-4977
END:VEVENT

END:VCALENDAR
