BEGIN:VCALENDAR
VERSION:2.0
PRODID:-//ChamberMaster//Event Calendar 2.0//EN
METHOD:PUBLISH
X-PUBLISHED-TTL:P3D
REFRESH-INTERVAL:P3D
CALSCALE:GREGORIAN
BEGIN:VEVENT
DTSTART:20110617T230000Z
DTEND:20110618T020000Z
X-MICROSOFT-CDO-ALLDAYEVENT:FALSE
SUMMARY:Happy D Klown
DESCRIPTION:Happy D Klown: 6-9 p.m.\, Chautauqua Park\, Beatrice.  Magic show\; twist balloon creations and much more!
X-ALT-DESC;FMTTYPE=text/html:Happy D Klown: 6-9 p.m.\, Chautauqua Park\, Beatrice.&nbsp\; Magic show\; twist balloon creations and much more!
LOCATION:
UID:e.41.4888
SEQUENCE:3
DTSTAMP:20260424T165458Z
URL:https://business.beatricechamber.com/events/details/happy-d-klown-06-17-2011-4888
END:VEVENT

END:VCALENDAR
