BEGIN:VCALENDAR
VERSION:2.0
PRODID:-//ChamberMaster//Event Calendar 2.0//EN
METHOD:PUBLISH
X-PUBLISHED-TTL:P3D
REFRESH-INTERVAL:P3D
CALSCALE:GREGORIAN
BEGIN:VEVENT
DTSTART:20101118T003000Z
DTEND:20101118T003000Z
X-MICROSOFT-CDO-ALLDAYEVENT:FALSE
SUMMARY:Harvest and Thanksgiving Traditions
DESCRIPTION:Harvest and Thanksgiving Traditions:\n\n\n\n6:30 p.m.\, Homestead House\, 22nd and Lincoln streets in Beatrice. Blake Bell\, historian at the Homestead National Monument\, will share stories of harvest and Thanksgiving traditions of early Homesteaders. Refreshments. Lori Johnson or Beth Schuster\, 223-3287. www.alco.com.
X-ALT-DESC;FMTTYPE=text/html:<strong><span style="font-size: 14px">Harvest and Thanksgiving Traditions:</span></strong><br />\n<br />\n6:30 p.m.\, Homestead House\, 22nd and Lincoln streets in Beatrice. Blake Bell\, historian at the Homestead National Monument\, will share stories of harvest and Thanksgiving traditions of early Homesteaders. Refreshments. Lori Johnson or Beth Schuster\, 223-3287. www.alco.com.<br />\n
LOCATION:
UID:e.41.2835
SEQUENCE:3
DTSTAMP:20260425T032749Z
URL:https://business.beatricechamber.com/events/details/harvest-and-thanksgiving-traditions-11-17-2010-2835
END:VEVENT

END:VCALENDAR
