BEGIN:VCALENDAR
VERSION:2.0
PRODID:-//ChamberMaster//Event Calendar 2.0//EN
METHOD:PUBLISH
X-PUBLISHED-TTL:P3D
REFRESH-INTERVAL:P3D
CALSCALE:GREGORIAN
BEGIN:VEVENT
DTSTART:20111029T003000Z
DTEND:20111029T043000Z
X-MICROSOFT-CDO-ALLDAYEVENT:FALSE
SUMMARY:Haunted Barn
DESCRIPTION:Haunted Barn\n\n\n\nFriday\, October 28\n\n7:30 - 11:30 pm\n\n\n\nEric & Kathy Engelman's\, 71430- 580 Ave\, Diller\, NE\n\n\n\nFrom Hwy 136 & 103: South 2 miles\, west 1 mile and north 1/4 mile\;\n\nFrom Diller: North 5 miles\, west 1 mile and north 1/4 mile\n\n\n\nSponsor:  Diller-Odell Class of 2013\n\n\n\nCost $4 Jr High & Above\; $3 Kindergarten-6th Grade\; Preschool & under: Free
X-ALT-DESC;FMTTYPE=text/html:Haunted Barn<br />\n<br />\nFriday\, October 28<br />\n7:30 - 11:30 pm<br />\n<br />\nEric &amp\; Kathy Engelman&#39\;s\, 71430- 580 Ave\, Diller\, NE<br />\n<br />\nFrom Hwy 136 &amp\; 103: South 2 miles\, west 1 mile and north 1/4 mile\;<br />\nFrom Diller: North 5 miles\, west 1 mile and north 1/4 mile<br />\n<br />\nSponsor:&nbsp\; Diller-Odell Class of 2013<br />\n<br />\nCost $4 Jr High &amp\; Above\; $3 Kindergarten-6th Grade\; Preschool &amp\; under: Free
LOCATION:
UID:e.41.5196
SEQUENCE:3
DTSTAMP:20260424T110134Z
URL:https://business.beatricechamber.com/events/details/haunted-barn-10-28-2011-5196
END:VEVENT

END:VCALENDAR
