BEGIN:VCALENDAR
VERSION:2.0
PRODID:-//ChamberMaster//Event Calendar 2.0//EN
METHOD:PUBLISH
X-PUBLISHED-TTL:P3D
REFRESH-INTERVAL:P3D
CALSCALE:GREGORIAN
BEGIN:VEVENT
DTSTART:20090602T003000Z
DTEND:20090602T013000Z
X-MICROSOFT-CDO-ALLDAYEVENT:FALSE
SUMMARY:HCW-Astronomy in Cyber-Space
DESCRIPTION:Homestead Computer Workshop "Astronomy in Cyber-Space"Presented by Prairie Astronomy Club
X-ALT-DESC;FMTTYPE=text/html:<div>Homestead Computer Workshop</div><div>&nbsp\;</div><div>&quot\;Astronomy in Cyber-Space&quot\;</div><div>Presented by Prairie Astronomy Club</div>
LOCATION:Southeast Community CollegeFord Hall Computer Lab\, Room F119
UID:e.41.988
SEQUENCE:3
DTSTAMP:20260426T042857Z
URL:https://business.beatricechamber.com/events/details/hcw-astronomy-in-cyber-space-06-01-2009-988
END:VEVENT

END:VCALENDAR
