BEGIN:VCALENDAR
VERSION:2.0
PRODID:-//ChamberMaster//Event Calendar 2.0//EN
METHOD:PUBLISH
X-PUBLISHED-TTL:P3D
REFRESH-INTERVAL:P3D
CALSCALE:GREGORIAN
BEGIN:VEVENT
DTSTART:20090804T003000Z
DTEND:20090804T013000Z
X-MICROSOFT-CDO-ALLDAYEVENT:FALSE
SUMMARY:HCW-Digital Art: Creating a Digital Collage
DESCRIPTION:Homestead Computer Workshop "Digital Art"Presented by Elizabeth England and Nancy Hagler Southeast Community CollegeFord Hall Computer Lab\, Room F119Use Ford hall's south entrance between the greenhouses
X-ALT-DESC;FMTTYPE=text/html:<div>Homestead Computer Workshop</div><div>&nbsp\;</div><div>&quot\;Digital Art&quot\;</div><div>Presented by Elizabeth England and Nancy Hagler</div><div>&nbsp\;</div><div><div>Southeast Community College</div><div>Ford Hall Computer Lab\, Room F119</div><div>Use Ford hall's south entrance between the greenhouses</div></div>
LOCATION:Southeast Community CollegeFord Hall Computer Lab\, Room F119Use Ford hall's south entrance between the greenhouses
UID:e.41.1322
SEQUENCE:3
DTSTAMP:20260426T011839Z
URL:https://business.beatricechamber.com/events/details/hcw-digital-art-creating-a-digital-collage-08-03-2009-1322
END:VEVENT

END:VCALENDAR
