BEGIN:VCALENDAR
VERSION:2.0
PRODID:-//ChamberMaster//Event Calendar 2.0//EN
METHOD:PUBLISH
X-PUBLISHED-TTL:P3D
REFRESH-INTERVAL:P3D
CALSCALE:GREGORIAN
BEGIN:VEVENT
DTSTART;VALUE=DATE:20110406
DTEND;VALUE=DATE:20110407
TRANSP:TRANSPARENT
X-MICROSOFT-CDO-ALLDAYEVENT:TRUE
SUMMARY:Health Care Forum
DESCRIPTION:Affordable Care Act\n\n  \n\nMost of us have questions about the Affordable Care Act. (And we should\, because it impacts us all!) So join us for a Community Forum on Health Care and what this new law means for you.\n\n\n\nWednesday\, April 6\n\n6:30-8:30 PM\n\nBeatrice Public Library\n\nSargeant Room\n\n \n\nRSVP Call (402)687-2100 to enjoy pizza prior to forum (6PM).
X-ALT-DESC;FMTTYPE=text/html:<span style="font-size: 14pt"><span style="color: #096079"><span style="font-family: arial\, sans-serif">Affordable Care Act<br />\n&nbsp\;&nbsp\;</span></span></span><br />\n<span style="font-size: 10pt"><span style="color: #17950a"><span style="font-family: arial\, sans-serif">Most of us have questions about the Affordable Care Act. (And we should\, because it impacts us all!) So join us for a Community Forum on Health Care and what this new law means for you.</span></span></span><br />\n<br />\n<strong><span style="color: #096079"><span style="font-family: arial\, sans-serif"><span style="font-size: medium">Wednesday\, April 6</span></span></span></strong><br />\n<strong><span style="color: #096079"><span style="font-family: arial\, sans-serif"><span style="font-size: medium">6:30-8:30 PM</span></span></span></strong><br />\n<strong><span style="color: #096079"><span style="font-family: arial\, sans-serif"><span style="font-size: medium">Beatrice Public Library</span></span></span></strong><br />\n<span style="font-size: medium"><strong><span style="color: #096079"><span style="font-family: arial\, sans-serif">Sargeant Room</span></span></strong></span><br />\n&nbsp\;<br />\n<strong><span style="font-size: 10pt"><span style="color: #096079"><span style="font-family: arial\, sans-serif">RSVP Call (402)687-2100 to enjoy pizza prior to forum (6PM).</span></span></span></strong>
LOCATION:
UID:e.41.4566
SEQUENCE:3
DTSTAMP:20260424T195230Z
URL:https://business.beatricechamber.com/events/details/health-care-forum-04-06-2011-4566
END:VEVENT

END:VCALENDAR
