BEGIN:VCALENDAR
VERSION:2.0
PRODID:-//ChamberMaster//Event Calendar 2.0//EN
METHOD:PUBLISH
X-PUBLISHED-TTL:P3D
REFRESH-INTERVAL:P3D
CALSCALE:GREGORIAN
BEGIN:VEVENT
DTSTART:20091022T230000Z
DTEND:20091023T010000Z
X-MICROSOFT-CDO-ALLDAYEVENT:FALSE
SUMMARY:Health Care Reform Meeting
DESCRIPTION:The Center for Rural Affairs and Nebraska Appleseed will hold a meeting to talk about the impact of health care reform on Nebraska communities.   The meeting will take place Thursday\, October 22nd\, 6:00 - 8:00 pm at the Beatrice Public Library. Talk about your community's health care needsReceive a legislative update on health reformLearn how to voice your concern and influence your legislatorsEnjoy light refreshments
X-ALT-DESC;FMTTYPE=text/html:<div><font face="Verdana" color="#333333" size="2">&nbsp\;</font><div><font size="2">The Center for Rural Affairs and Nebraska Appleseed will hold a meeting to talk about the impact of health care reform on Nebraska communities.&nbsp\; </font></div><div>&nbsp\;</div><div><font size="2">The meeting will take place Thursday\, October 22nd\, 6:00 - 8:00 pm </font></div><div><font size="2">at the Beatrice Public Library.</font></div><div>&nbsp\;</div><ul><li><font size="2">Talk about your community's health care needs</font></li><li><font size="2">Receive a legislative update on health reform</font></li><li><font size="2">Learn how to voice your concern and influence your legislators</font></li><li><font size="2">Enjoy light refreshments</font></li></ul></div>
LOCATION:
UID:e.41.1489
SEQUENCE:3
DTSTAMP:20260425T222450Z
URL:https://business.beatricechamber.com/events/details/health-care-reform-meeting-10-22-2009-1489
END:VEVENT

END:VCALENDAR
