BEGIN:VCALENDAR
VERSION:2.0
PRODID:-//ChamberMaster//Event Calendar 2.0//EN
METHOD:PUBLISH
X-PUBLISHED-TTL:P3D
REFRESH-INTERVAL:P3D
CALSCALE:GREGORIAN
BEGIN:VEVENT
DTSTART;VALUE=DATE:20120413
DTEND;VALUE=DATE:20120414
TRANSP:TRANSPARENT
X-MICROSOFT-CDO-ALLDAYEVENT:TRUE
SUMMARY:Health-Safety Fair Community Coffee
DESCRIPTION:
X-ALT-DESC;FMTTYPE=text/html:
LOCATION:Park Lodge\, 300 North 7th St.\, Wymore Sponsors: Southern Gage Community Pride Group\, Wymore Fire and Rescue Departments and Gage County Emergency Management
UID:e.41.5446
SEQUENCE:3
DTSTAMP:20260422T155122Z
URL:https://business.beatricechamber.com/events/details/health-safety-fair-community-coffee-04-13-2012-5446
END:VEVENT

END:VCALENDAR
