BEGIN:VCALENDAR
VERSION:2.0
PRODID:-//ChamberMaster//Event Calendar 2.0//EN
METHOD:PUBLISH
X-PUBLISHED-TTL:P3D
REFRESH-INTERVAL:P3D
CALSCALE:GREGORIAN
BEGIN:VEVENT
DTSTART;VALUE=DATE:20110212
DTEND;VALUE=DATE:20110213
TRANSP:TRANSPARENT
X-MICROSOFT-CDO-ALLDAYEVENT:TRUE
SUMMARY:Healthy Hearts Run
DESCRIPTION:First Annual Healthy Hearts Run\n\n	 \n\n	5k and 1 mile run/walk Saturday\, Febr 12\, 2011\n\n	Plan to run or walk individually\, as a family or bring your "sweetheart" and enter as a couple. Participants are encouraged to wear red. Registration begins at 12:30 pm. Races start at 1:30 pm and begin and end at Husker Health and Wellness  2320 N 6th St. in Beatrice. All runners registering by Febr 4 are guaranteed a race stocking cap. Participant awards for 14 yr and under in 1 mile. 5k awards 1st-3rd men/women/couples. Registration fees are $12/individuals\, $20/couple (5K only)\, $25 family (3 hats included). For more info or to receive an entry form contact Julie at 402-641-5746 or Arnie at 402-520-3104.
X-ALT-DESC;FMTTYPE=text/html:<p style="margin: 0in 0in 0pt">\n	<font size="3"><strong><span style="font-family: 'arial'\, 'sans-serif'\; color: navy">First Annual Healthy Hearts Run</span></strong><span style="font-family: 'arial'\, 'sans-serif'\; color: #7f7f7f"><o:p></o:p></span></font></p>\n<p style="margin: 0in 0in 0pt">\n	<span style="font-family: 'arial'\, 'sans-serif'\; color: navy\; font-size: 10pt">&nbsp\;</span><span style="font-family: 'arial'\, 'sans-serif'\; color: #7f7f7f\; font-size: 10pt"><o:p></o:p></span></p>\n<p style="margin: 0in 0in 0pt">\n	<span style="font-family: 'arial'\, 'sans-serif'\; color: navy\; font-size: 10pt">5k and 1 mile run/walk Saturday\, Febr 12\, 2011</span><span style="font-family: 'arial'\, 'sans-serif'\; color: #7f7f7f\; font-size: 10pt"><o:p></o:p></span></p>\n<p style="margin: 0in 0in 0pt">\n	<span style="font-family: 'arial'\, 'sans-serif'\; color: navy\; font-size: 10pt">Plan to run or walk individually\, as a family or bring your &quot\;sweetheart&quot\; and enter as a couple. Participants are encouraged to wear red. Registration begins at 12:30 pm.&nbsp\;Races start at 1:30 pm<strong><span style="font-family: 'arial'\, 'sans-serif'">&nbsp\;</span></strong>and begin and end at Husker Health and Wellness&nbsp\; 2320 N 6th St. in Beatrice. All runners registering by Febr 4 are guaranteed a race stocking cap. Participant awards for 14 yr and under in 1 mile. 5k awards 1st-3rd men/women/couples. Registration fees are $12/individuals\, $20/couple (5K only)\, $25 family (3 hats included). For more info or to receive an entry form contact Julie at </span><span style="font-family: 'arial'\, 'sans-serif'\; color: navy\; font-size: 10pt">402-641-5746 or Arnie at 402-520-3104.</span><span style="font-family: 'arial'\, 'sans-serif'\; color: #7f7f7f\; font-size: 10pt"><o:p></o:p></span></p>\n
LOCATION:
UID:e.41.3288
SEQUENCE:3
DTSTAMP:20260424T225551Z
URL:https://business.beatricechamber.com/events/details/healthy-hearts-run-02-12-2011-3288
END:VEVENT

END:VCALENDAR
