BEGIN:VCALENDAR
VERSION:2.0
PRODID:-//ChamberMaster//Event Calendar 2.0//EN
METHOD:PUBLISH
X-PUBLISHED-TTL:P3D
REFRESH-INTERVAL:P3D
CALSCALE:GREGORIAN
BEGIN:VEVENT
DTSTART:20100127T000000Z
DTEND:20100127T020000Z
X-MICROSOFT-CDO-ALLDAYEVENT:FALSE
SUMMARY:Healthy New Year
DESCRIPTION:It's the start of a brand New Year and the perfect time to start doing more to take care of your health. \nThere will be experts available for an enjoyable evening of fun and education including \nIdeas for improving Health & Fitness\, Nutrition\, Massage\, Detox Foot Bath\, Yoga\, Spinal Health Checks\, and much\, much more! \nLet's make 2010 A Miracle Year for Wellness!
X-ALT-DESC;FMTTYPE=text/html:<div>It's the start of a brand New Year and the perfect time to start doing more to take care of your health. <br />There will be experts available for an enjoyable evening of fun and education including <br />Ideas for improving Health &amp\; Fitness\, Nutrition\, Massage\, Detox Foot Bath\, Yoga\, Spinal Health Checks\, and much\, much more! <br />Let's make 2010 A Miracle Year for Wellness! <br />&nbsp\;</div>
LOCATION:Beatrice Family Chiropractic 2526 E Court St. Beatrice\, NE 68310
UID:e.41.1581
SEQUENCE:3
DTSTAMP:20260425T181330Z
URL:https://business.beatricechamber.com/events/details/healthy-new-year-01-26-2010-1581
END:VEVENT

END:VCALENDAR
