BEGIN:VCALENDAR
VERSION:2.0
PRODID:-//ChamberMaster//Event Calendar 2.0//EN
METHOD:PUBLISH
X-PUBLISHED-TTL:P3D
REFRESH-INTERVAL:P3D
CALSCALE:GREGORIAN
BEGIN:VEVENT
DTSTART;VALUE=DATE:20100508
DTEND;VALUE=DATE:20100509
TRANSP:TRANSPARENT
X-MICROSOFT-CDO-ALLDAYEVENT:TRUE
SUMMARY:Heartland Motors Classic Car Show
DESCRIPTION:Heartland Motors 14th Anniversary PartyClassic Car Show Saturday\, May 811 am - 4 pm FREE HOT DOGS & POP!  Live DJ! Everyone is Welcome - No entry fee! People's Choice Trophy will be awarded at 2 pm (Must be present to win) For more information\, contact Tracy or Jim\, 402-228-7011
X-ALT-DESC;FMTTYPE=text/html:<div>Heartland Motors 14th Anniversary Party</div><div>Classic Car Show</div><div>&nbsp\;</div><div>Saturday\, May 8</div><div>11 am -&nbsp\;4 pm</div><div>&nbsp\;</div><div>FREE&nbsp\;HOT&nbsp\;DOGS&nbsp\;&amp\;&nbsp\;POP!&nbsp\; Live DJ!</div><div>&nbsp\;</div><div>Everyone is Welcome - No entry fee!</div><div>&nbsp\;</div><div>People's Choice Trophy will be awarded at 2 pm (Must be present to win)</div><div>&nbsp\;</div><div>For more information\, contact Tracy or Jim\, 402-228-7011</div><div>&nbsp\;</div><div>&nbsp\;</div><div>&nbsp\;</div>
LOCATION:
UID:e.41.1970
SEQUENCE:3
DTSTAMP:20260425T123037Z
URL:https://business.beatricechamber.com/events/details/heartland-motors-classic-car-show-05-08-2010-1970
END:VEVENT

END:VCALENDAR
