BEGIN:VCALENDAR
VERSION:2.0
PRODID:-//ChamberMaster//Event Calendar 2.0//EN
METHOD:PUBLISH
X-PUBLISHED-TTL:P3D
REFRESH-INTERVAL:P3D
CALSCALE:GREGORIAN
BEGIN:VEVENT
DTSTART:20120430T150000Z
DTEND:20120504T190000Z
X-MICROSOFT-CDO-ALLDAYEVENT:FALSE
SUMMARY:Heartland Storytelling Festival
DESCRIPTION:In celebration of the 150th Anniversary of Homestead Act of 1862 Homestead National Monument of America is pleased to present special programs during this year's Heartland Storytelling Festival. Not only will students hear great storytellers\, but they will get to see the original Homestead Act of 1862 on display at Homestead National Monument of America April 25-May 28\, 2012.
X-ALT-DESC;FMTTYPE=text/html:<p>\n	<span style="font-family: 'verdana'\, 'sans-serif'">In celebration of the 150<sup>th</sup> Anniversary of Homestead Act of 1862 Homestead National Monument of America is pleased to present special programs during this year&#39\;s Heartland Storytelling Festival. Not only will students hear great storytellers\, but they will get to see the original Homestead Act of 1862 on display at Homestead National Monument of America April 25-May 28\, 2012.</span></p>\n
LOCATION:Homestead National Monument of America
UID:e.41.5351
SEQUENCE:3
DTSTAMP:20260422T142838Z
URL:https://business.beatricechamber.com/events/details/heartland-storytelling-festival-04-30-2012-5351
END:VEVENT

END:VCALENDAR
