BEGIN:VCALENDAR
VERSION:2.0
PRODID:-//ChamberMaster//Event Calendar 2.0//EN
METHOD:PUBLISH
X-PUBLISHED-TTL:P3D
REFRESH-INTERVAL:P3D
CALSCALE:GREGORIAN
BEGIN:VEVENT
DTSTART;VALUE=DATE:20120430
DTEND;VALUE=DATE:20120505
TRANSP:TRANSPARENT
X-MICROSOFT-CDO-ALLDAYEVENT:TRUE
SUMMARY:Heartland Storytelling Festival commemorates anniversary
DESCRIPTION:In commemoration of the 150th Anniversary of Homestead Act of 1862\, Homestead National Monument of America is pleased to present special programs during this year's Heartland Storytelling Festival\, April 30-May 4.\n\nThe public is invited to join in the storytelling fun at 11 a.m. and 2:30 p.m. at the Education Center. This year's storytellers are Pippa White\, Rosie Curter and Darrin Crow. The performances will be held inside the Education Center and outside in the courtyard. Please dress for the weather. Not only can visitors hear great storyteller\, but they can also see the original Homestead Act of 1862 on display at Homestead National Monument of America April 25-May 28.\n\nRemember\, Homestead National Monument of America has an exciting schedule of events planned for 2012\, the 150th Anniversary of 1862. Keep up with the latest information by following them on Twitter (HomesteadNM) and Facebook (Homestead National Monument of America).\n\nHomestead National Monument of America is a unit of the National Park Service located four miles west of Beatrice\, Nebraska. Hours of operation are 8:30 a.m. - 5 p.m. Monday through Friday and 9 a.m. - 5 p.m. Saturday and Sunday. Admission is free of charge. For additional information\, please call 402-223-3514 or visit http://www.nps.gov/home/index.htm.
X-ALT-DESC;FMTTYPE=text/html:In commemoration of the 150th&nbsp\;Anniversary&nbsp\;of Homestead Act of 1862\, Homestead National Monument of America is pleased&nbsp\;to present special programs during this year&#39\;s&nbsp\;Heartland Storytelling Festival\, April 30-May 4.<br />\nThe public is invited to join&nbsp\;in the storytelling&nbsp\;fun at 11 a.m.&nbsp\;and 2:30 p.m. at the&nbsp\;Education Center. This year&#39\;s&nbsp\;storytellers&nbsp\;are Pippa&nbsp\;White\, Rosie Curter and Darrin Crow. The performances&nbsp\;will be held&nbsp\;inside&nbsp\;the Education&nbsp\;Center and outside in the courtyard.&nbsp\;Please dress&nbsp\;for the weather. Not only&nbsp\;can visitors&nbsp\;hear great&nbsp\;storyteller\, but they&nbsp\;can also see the&nbsp\;original&nbsp\;Homestead Act&nbsp\;of 1862 on display at Homestead National Monument of America April&nbsp\;25-May 28.<br />\nRemember\, Homestead&nbsp\;National Monument of&nbsp\;America has an exciting&nbsp\;schedule of events planned for 2012\, the 150th&nbsp\;Anniversary of 1862. Keep up with the latest&nbsp\;information by following&nbsp\;them on Twitter (HomesteadNM)&nbsp\;and Facebook&nbsp\;(Homestead National Monument of America).<br />\nHomestead National Monument of&nbsp\;America is a&nbsp\;unit of&nbsp\;the National Park Service located four&nbsp\;miles west&nbsp\;of Beatrice\,&nbsp\;Nebraska. Hours&nbsp\;of operation&nbsp\;are 8:30&nbsp\;a.m.&nbsp\;- 5 p.m.&nbsp\;Monday through Friday&nbsp\;and 9 a.m.&nbsp\;- 5 p.m.&nbsp\;Saturday and Sunday.&nbsp\;Admission is free&nbsp\;of charge.&nbsp\;For additional&nbsp\;information\,&nbsp\;please call 402-223-3514 or visit&nbsp\;<a href="http://www.nps.gov/home/index.htm">http://www.nps.gov/home/index.htm</a>.
LOCATION:
UID:e.41.5499
SEQUENCE:3
DTSTAMP:20260422T143003Z
URL:https://business.beatricechamber.com/events/details/heartland-storytelling-festival-commemorates-anniversary-04-30-2012-5499
END:VEVENT

END:VCALENDAR
