BEGIN:VCALENDAR
VERSION:2.0
PRODID:-//ChamberMaster//Event Calendar 2.0//EN
METHOD:PUBLISH
X-PUBLISHED-TTL:P3D
REFRESH-INTERVAL:P3D
CALSCALE:GREGORIAN
BEGIN:VEVENT
DTSTART:20111029T110000Z
DTEND:20111029T200000Z
X-MICROSOFT-CDO-ALLDAYEVENT:FALSE
SUMMARY:Heavy Metal Harvest Food Pantry Fundraiser
DESCRIPTION:Heavy Metal Harvest Food Pantry Fundraiser\n\n\n\nSaturday\, October 29\n\n6 am - 3 pm\n\n\n\nSt. John Lutheran Parking Lot\, 701 N 6th\, Beatrice\n\n\n\nAll funds received from the sale of donations of scrap copper\, copper wire\, aluminum\, brass\, stainless steel\, and iron scrap\, pop cans\, and used car batteries will benefit the Food Pantry.\n\n\n\nCoordinated by Troy and Becky Holtmeier\, 402-520-3884
X-ALT-DESC;FMTTYPE=text/html:Heavy Metal Harvest Food Pantry Fundraiser<br />\n<br />\nSaturday\, October 29<br />\n6 am - 3 pm<br />\n<br />\nSt. John Lutheran Parking Lot\, 701 N 6th\, Beatrice<br />\n<br />\nAll funds received from the sale of donations of scrap copper\, copper wire\, aluminum\, brass\, stainless steel\, and iron scrap\, pop cans\, and used car batteries will benefit the Food Pantry.<br />\n<br />\nCoordinated by Troy and Becky Holtmeier\, 402-520-3884
LOCATION:
UID:e.41.5213
SEQUENCE:3
DTSTAMP:20260424T111831Z
URL:https://business.beatricechamber.com/events/details/heavy-metal-harvest-food-pantry-fundraiser-10-29-2011-5213
END:VEVENT

END:VCALENDAR
