BEGIN:VCALENDAR
VERSION:2.0
PRODID:-//ChamberMaster//Event Calendar 2.0//EN
METHOD:PUBLISH
X-PUBLISHED-TTL:P3D
REFRESH-INTERVAL:P3D
CALSCALE:GREGORIAN
BEGIN:VEVENT
DTSTART;VALUE=DATE:20110612
DTEND;VALUE=DATE:20110613
TRANSP:TRANSPARENT
X-MICROSOFT-CDO-ALLDAYEVENT:TRUE
SUMMARY:Historical Society Band begins Concert Season on Sunday
DESCRIPTION:The Gage County Historical Society Band summer concerts kick off the season this Sunday at 7 p.m. in Chautauqua Park\, Beatrice. \n\n\n\nThe first concert features Maria Pytlik\, a nine year old trumpeter from near Brainard. \n\n\n\nThere will be free popcorn for everyone who comes\, courtesy of The Kensington.
X-ALT-DESC;FMTTYPE=text/html:The Gage County Historical Society Band summer concerts kick off the season this Sunday at 7 p.m. in Chautauqua Park\, Beatrice.&nbsp\;<br />\n<br />\nThe first concert features Maria Pytlik\, a nine year old trumpeter from near Brainard.&nbsp\;<br />\n<br />\nThere will be free popcorn for everyone who comes\, courtesy of The Kensington.
LOCATION:
UID:e.41.4869
SEQUENCE:3
DTSTAMP:20260424T170012Z
URL:https://business.beatricechamber.com/events/details/historical-society-band-begins-concert-season-on-sunday-06-12-2011-4869
END:VEVENT

END:VCALENDAR
