BEGIN:VCALENDAR
VERSION:2.0
PRODID:-//ChamberMaster//Event Calendar 2.0//EN
METHOD:PUBLISH
X-PUBLISHED-TTL:P3D
REFRESH-INTERVAL:P3D
CALSCALE:GREGORIAN
BEGIN:VEVENT
DTSTART;VALUE=DATE:20110626
DTEND;VALUE=DATE:20110627
TRANSP:TRANSPARENT
X-MICROSOFT-CDO-ALLDAYEVENT:TRUE
SUMMARY:Historical Society Band Concert
DESCRIPTION:Starts at 7 p.m. in Chautauqua Park\, Beatrice.\n\n\n\nFree popcorn courtesy of The Kensington for everyone who comes.\n\n\n\nFeaturing Ed Love a jazz saxophonist from Lincoln.
X-ALT-DESC;FMTTYPE=text/html:Starts at 7 p.m. in Chautauqua Park\, Beatrice.<br />\n<br />\nFree popcorn courtesy of The Kensington for everyone who comes.<br />\n<br />\nFeaturing Ed Love a jazz saxophonist from Lincoln.
LOCATION:
UID:e.41.4870
SEQUENCE:3
DTSTAMP:20260424T165808Z
URL:https://business.beatricechamber.com/events/details/historical-society-band-concert-06-26-2011-4870
END:VEVENT

END:VCALENDAR
