BEGIN:VCALENDAR
VERSION:2.0
PRODID:-//ChamberMaster//Event Calendar 2.0//EN
METHOD:PUBLISH
X-PUBLISHED-TTL:P3D
REFRESH-INTERVAL:P3D
CALSCALE:GREGORIAN
BEGIN:VEVENT
DTSTART;VALUE=DATE:20110724
DTEND;VALUE=DATE:20110725
TRANSP:TRANSPARENT
X-MICROSOFT-CDO-ALLDAYEVENT:TRUE
SUMMARY:Historical Society Band Concert
DESCRIPTION:Starts at 7 p.m. in Chautauqua Park\, Beatrice.\n\n\n\nFree popcorn courtesy of The Kensington for everyone who comes.\n\n\n\nFeaturing new BHS band teacher Craig Mathis on trombone.
X-ALT-DESC;FMTTYPE=text/html:Starts at 7 p.m. in Chautauqua Park\, Beatrice.<br />\n<br />\nFree popcorn courtesy of The Kensington for everyone who comes.<br />\n<br />\nFeaturing new BHS band teacher Craig Mathis on trombone.
LOCATION:
UID:e.41.4872
SEQUENCE:3
DTSTAMP:20260424T153320Z
URL:https://business.beatricechamber.com/events/details/historical-society-band-concert-07-24-2011-4872
END:VEVENT

END:VCALENDAR
