BEGIN:VCALENDAR
VERSION:2.0
PRODID:-//ChamberMaster//Event Calendar 2.0//EN
METHOD:PUBLISH
X-PUBLISHED-TTL:P3D
REFRESH-INTERVAL:P3D
CALSCALE:GREGORIAN
BEGIN:VEVENT
DTSTART;VALUE=DATE:20110429
DTEND;VALUE=DATE:20110430
TRANSP:TRANSPARENT
X-MICROSOFT-CDO-ALLDAYEVENT:TRUE
SUMMARY:HNM Storytelling Festival
DESCRIPTION:Homestead National Monument of America to host storytelling festival as a part of the Heartland Storytelling Festival\n\n\n\nFriday\, April 29\n\n7 p.m.\n\n\n\nThis event is free and will take place at the monument's Education Center. \n\n\n\nFeatured storytellers include:\n\nDarrin Crow\n\nRosie Cutrer\n\nRicardo Garcia\n\n\n\nNot available Friday night?  Stop in between 9:30 am - 2 pm on April 28 or 29 when these storytellers will perform for school age audiences. \n\n\n\nThis program is possible with the support of the Nebraska Arts Council and the Nebraska Cultural Endowment.  Also\, the Nebraska Humanities Council (NHC) provides major funding for this program.  The NHC receives support from the National Endowment for the Humanities\, the Nebraska State Legislature\, the Nebraska Cultural Endowment and private donations.\n\n\n\nTeachers interested in bringing school groups should call Tina Miller\, Education Coordinator\, at 402-223-3514 as soon as possible to make reservations.
X-ALT-DESC;FMTTYPE=text/html:Homestead National Monument of America to host storytelling festival as a part of the Heartland Storytelling Festival<br />\n<br />\nFriday\, April 29<br />\n7 p.m.<br />\n<br />\nThis event is free and will take place at the monument&#39\;s Education Center.&nbsp\;<br />\n<br />\nFeatured storytellers include:<br />\nDarrin Crow<br />\nRosie Cutrer<br />\nRicardo Garcia<br />\n<br />\nNot available Friday night?&nbsp\; Stop in between 9:30 am - 2 pm on April 28 or 29 when these storytellers will perform for school age audiences.&nbsp\;<br />\n<br />\nThis program is possible with the support of the Nebraska Arts Council and the Nebraska Cultural Endowment.&nbsp\; Also\, the Nebraska Humanities Council (NHC) provides major funding for this program.&nbsp\; The NHC receives support from the National Endowment for the Humanities\, the Nebraska State Legislature\, the Nebraska Cultural Endowment and private donations.<br />\n<br />\nTeachers interested in bringing school groups should call Tina Miller\, Education Coordinator\, at 402-223-3514 as soon as possible to make reservations.
LOCATION:
UID:e.41.4581
SEQUENCE:3
DTSTAMP:20260424T200058Z
URL:https://business.beatricechamber.com/events/details/hnm-storytelling-festival-04-29-2011-4581
END:VEVENT

END:VCALENDAR
