BEGIN:VCALENDAR
VERSION:2.0
PRODID:-//ChamberMaster//Event Calendar 2.0//EN
METHOD:PUBLISH
X-PUBLISHED-TTL:P3D
REFRESH-INTERVAL:P3D
CALSCALE:GREGORIAN
BEGIN:VEVENT
DTSTART;VALUE=DATE:20090802
DTEND;VALUE=DATE:20090809
TRANSP:TRANSPARENT
X-MICROSOFT-CDO-ALLDAYEVENT:TRUE
SUMMARY:HNMA Folk Art Week
DESCRIPTION:Arts featured during Fokd Art Week at Homestead MonumentArtists will be displaying and demonstrating their talents - participation encouragedStop out any day between 10 am - 4 pm. For more details visit www.nps.gov/homeCall 402-223-3514
X-ALT-DESC;FMTTYPE=text/html:<div>Arts featured during Fokd Art Week at Homestead Monument</div><div>Artists will be displaying and demonstrating their talents - participation encouraged</div><div>Stop out any day between 10 am - 4 pm.&nbsp\;</div><div>For more details visit <a href="http://www.nps.gov/home">www.nps.gov/home</a></div><div>Call 402-223-3514</div>
LOCATION:
UID:e.41.1355
SEQUENCE:3
DTSTAMP:20260426T011838Z
URL:https://business.beatricechamber.com/events/details/hnma-folk-art-week-08-02-2009-1355
END:VEVENT

END:VCALENDAR
