BEGIN:VCALENDAR
VERSION:2.0
PRODID:-//ChamberMaster//Event Calendar 2.0//EN
METHOD:PUBLISH
X-PUBLISHED-TTL:P3D
REFRESH-INTERVAL:P3D
CALSCALE:GREGORIAN
BEGIN:VEVENT
DTSTART:20101211T190000Z
DTEND:20101211T210000Z
X-MICROSOFT-CDO-ALLDAYEVENT:FALSE
SUMMARY:Holiday activities at National Monument of America's Freeman School:
DESCRIPTION:Holiday activities at National Monument of America's Freemen School:\n\n\n\n1-3 p.m.\, west of Beatrice\, Highway 4. Hellp trim a tree and decorate the school for the holiday's listen to holiday stories\, participate in hands-on crafts. Free of charge. 223-3514
X-ALT-DESC;FMTTYPE=text/html:<strong><span style="font-size: 14px\;">Holiday activities at National Monument of America&#39\;s Freemen School:</span></strong><br />\n<br />\n1-3 p.m.\, west of Beatrice\, Highway 4. Hellp trim a tree and decorate the school for the holiday&#39\;s listen to holiday stories\, participate in hands-on crafts. Free of charge. 223-3514<br />\n
LOCATION:
UID:e.41.2904
SEQUENCE:3
DTSTAMP:20260425T015832Z
URL:https://business.beatricechamber.com/events/details/holiday-activities-at-national-monument-of-america-s-freeman-school-12-11-2010-2904
END:VEVENT

END:VCALENDAR
