BEGIN:VCALENDAR
VERSION:2.0
PRODID:-//ChamberMaster//Event Calendar 2.0//EN
METHOD:PUBLISH
X-PUBLISHED-TTL:P3D
REFRESH-INTERVAL:P3D
CALSCALE:GREGORIAN
BEGIN:VEVENT
DTSTART:20101104T140000Z
DTEND:20101106T230000Z
X-MICROSOFT-CDO-ALLDAYEVENT:FALSE
SUMMARY:Holiday Bazaar
DESCRIPTION:Holiday Bazaar Open House\n\n\n\nNovember 4th-6th\n\nTHURS-SAT: 9AM-6PM\n\n\n\n1447 Hackberry Road  Beatrice\n\n(Just South of truck stop on Hwy 77)\n\n402-228-8938
X-ALT-DESC;FMTTYPE=text/html:<strong><span style="font-size: 14px">Holiday Bazaar Open House</span></strong><br />\n<br />\nNovember 4th-6th<br />\nTHURS-SAT: 9AM-6PM<br />\n<br />\n1447 Hackberry Road&nbsp\;&nbsp\;Beatrice<br />\n(Just South of truck stop on Hwy 77)<br />\n402-228-8938
LOCATION:
UID:e.41.2766
SEQUENCE:3
DTSTAMP:20260425T032335Z
URL:https://business.beatricechamber.com/events/details/holiday-bazaar-11-04-2010-2766
END:VEVENT

END:VCALENDAR
