BEGIN:VCALENDAR
VERSION:2.0
PRODID:-//ChamberMaster//Event Calendar 2.0//EN
METHOD:PUBLISH
X-PUBLISHED-TTL:P3D
REFRESH-INTERVAL:P3D
CALSCALE:GREGORIAN
BEGIN:VEVENT
DTSTART:20091202T013000Z
DTEND:20091202T030000Z
X-MICROSOFT-CDO-ALLDAYEVENT:FALSE
SUMMARY:Holiday Concert - Beatrice Regional Orchestra
DESCRIPTION:Holiday ConcertTuesday\, December 1\, 2009Hevelone Center7:30 pm Tickets:$5 Adults$3 Seniors and students
X-ALT-DESC;FMTTYPE=text/html:<div>Holiday Concert</div><div>Tuesday\, December 1\, 2009</div><div>Hevelone Center</div><div>7:30 pm</div><div>&nbsp\;</div><div>Tickets:</div><div>$5 Adults</div><div>$3 Seniors and students</div>
LOCATION:
UID:e.41.1551
SEQUENCE:3
DTSTAMP:20260425T194608Z
URL:https://business.beatricechamber.com/events/details/holiday-concert-beatrice-regional-orchestra-12-01-2009-1551
END:VEVENT

END:VCALENDAR
