BEGIN:VCALENDAR
VERSION:2.0
PRODID:-//ChamberMaster//Event Calendar 2.0//EN
METHOD:PUBLISH
X-PUBLISHED-TTL:P3D
REFRESH-INTERVAL:P3D
CALSCALE:GREGORIAN
BEGIN:VEVENT
DTSTART:20111024T140000Z
DTEND:20111028T210000Z
X-MICROSOFT-CDO-ALLDAYEVENT:FALSE
SUMMARY:Holiday Craft Show at Mosaic in Beatrice's Friends Learning Center
DESCRIPTION:Mosaic in Beatrice's Friends Learning Center will hold it's Annual Holiday Craft Show October 24 - 28\, featuring seasonal crafts made by individuals with intellectual disabilities. Proceeds from the sale of these crafts go toward community programming through Mosaic in Beatrice. Mosaic in Beatrice is a 501(c)(3) organization\, serving individuals with intellectual disabilities since 1956.
X-ALT-DESC;FMTTYPE=text/html:Mosaic in Beatrice&#39\;s Friends Learning Center will hold it&#39\;s Annual Holiday Craft Show October 24 - 28\, featuring seasonal crafts made by individuals with intellectual disabilities. Proceeds from the sale of these crafts go toward community programming through Mosaic in Beatrice. Mosaic in Beatrice is a 501(c)(3) organization\, serving individuals with intellectual disabilities since 1956.
LOCATION:Mosaic in Beatrice - Friends Learning Center 29107 US Highway 77\, Beatrice\, NE 68310
UID:e.41.5131
SEQUENCE:3
DTSTAMP:20260424T111928Z
URL:https://business.beatricechamber.com/events/details/holiday-craft-show-at-mosaic-in-beatrice-s-friends-learning-center-10-24-2011-5131
END:VEVENT

END:VCALENDAR
