BEGIN:VCALENDAR
VERSION:2.0
PRODID:-//ChamberMaster//Event Calendar 2.0//EN
METHOD:PUBLISH
X-PUBLISHED-TTL:P3D
REFRESH-INTERVAL:P3D
CALSCALE:GREGORIAN
BEGIN:VEVENT
DTSTART:20091121T150000Z
DTEND:20091121T220000Z
X-MICROSOFT-CDO-ALLDAYEVENT:FALSE
SUMMARY:Holiday Extravaganza
DESCRIPTION:HOLIDAY EXTRAVAGANZA Come & shop for all your Holiday needs. When:     Saturday\, November 21\, 2009 Where:     Wymore Community Center\,  115 West E \, WymoreTime: 9:00   4:00 Avon - Beauti-control- Creative Memories - Kay's Treasurers - Lia Sophia Jewelry - Pampered Chef - PartyLites - Scentsy - Tastefully Simple - Tupperware
X-ALT-DESC;FMTTYPE=text/html:<div><p style="text-align: center"><em><span style="color: #003300"><span style="font-size: medium"><span style=""><strong>HOLIDAY EXTRAVAGANZA </strong></span></span></span></em></p><p><span style="font-size: small"><strong><span style="color: #003300">Come &amp\; shop for all your Holiday needs. </span></strong></span></p><p><span style="color: #800000"><span style="font-size: small"><strong>When: &nbsp\;&nbsp\;&nbsp\;&nbsp\;Saturday\, November 21\, 2009 </strong></span></span></p><p><span style="color: #800000"><span style="font-size: small"><strong>Where: &nbsp\;&nbsp\;&nbsp\;&nbsp\;Wymore Community Center\,</strong></span></span>&nbsp\; <span style="color: #800000"><span style="font-size: small"><strong>115 West E \, Wymore</strong></span></span></p><p><span style="color: #800000"><span style="font-size: small"><strong>Time: 9:00 &ndash\; 4:00 </strong></span></span></p><p><em><span style="font-size: medium"><span style="color: #003300">Avon - Beauti-control- Creative Memories - Kay&rsquo\;s Treasurers - </span></span></em><em><span style="font-size: medium"><span style="color: #003300">Lia Sophia Jewelry - Pampered Chef - PartyLites - Scentsy - Tastefully Simple - Tupperware </span></span></em></p></div>
LOCATION:
UID:e.41.1490
SEQUENCE:3
DTSTAMP:20260425T204639Z
URL:https://business.beatricechamber.com/events/details/holiday-extravaganza-11-21-2009-1490
END:VEVENT

END:VCALENDAR
