BEGIN:VCALENDAR
VERSION:2.0
PRODID:-//ChamberMaster//Event Calendar 2.0//EN
METHOD:PUBLISH
X-PUBLISHED-TTL:P3D
REFRESH-INTERVAL:P3D
CALSCALE:GREGORIAN
BEGIN:VEVENT
DTSTART;VALUE=DATE:20101104
DTEND;VALUE=DATE:20101106
TRANSP:TRANSPARENT
X-MICROSOFT-CDO-ALLDAYEVENT:TRUE
SUMMARY:Holiday Gift Ideas
DESCRIPTION:Holiday Gift Ideas\n\n\n\nNovember 4th & 5th\n\n9 a.m. - 7 p.m.\n\n\n\nHand-Painted China:  Cups\, Bowls\, Christmas Dishes\, Ornaments & More!\n\n\n\nMary Kay Osterhaus\, 513 Belvedere\n\n402-228-9348
X-ALT-DESC;FMTTYPE=text/html:Holiday Gift Ideas<br />\n<br />\nNovember 4th &amp\; 5th<br />\n9 a.m. - 7 p.m.<br />\n<br />\nHand-Painted China:&nbsp\; Cups\, Bowls\, Christmas Dishes\, Ornaments &amp\; More!<br />\n<br />\nMary Kay Osterhaus\, 513 Belvedere<br />\n402-228-9348
LOCATION:
UID:e.41.2770
SEQUENCE:3
DTSTAMP:20260425T032433Z
URL:https://business.beatricechamber.com/events/details/holiday-gift-ideas-11-04-2010-2770
END:VEVENT

END:VCALENDAR
