BEGIN:VCALENDAR
VERSION:2.0
PRODID:-//ChamberMaster//Event Calendar 2.0//EN
METHOD:PUBLISH
X-PUBLISHED-TTL:P3D
REFRESH-INTERVAL:P3D
CALSCALE:GREGORIAN
BEGIN:VEVENT
DTSTART:20091101T180000Z
DTEND:20091101T230000Z
X-MICROSOFT-CDO-ALLDAYEVENT:FALSE
SUMMARY:Holiday Open House
DESCRIPTION:Holiday Open HouseSunday\, November 1stHoliday Inn ExpressNoon - 5 pm Hosted by: Kat's Bags\, Scentsy\, Tastefully Simple\, Tupperware\, Usborne Books
X-ALT-DESC;FMTTYPE=text/html:<div><span style="font-size: x-small"><strong><span style="color: #ff0000">Holiday Open House</span></strong></span></div><div><span style="font-size: x-small"><strong><span style="color: #ff0000">Sunday\, November 1st</span></strong></span></div><div><span style="font-size: x-small"><strong><span style="color: #ff0000">Holiday Inn Express</span></strong></span></div><div><span style="font-size: x-small"><strong><span style="color: #ff0000">Noon - 5 pm</span></strong></span></div><div>&nbsp\;</div><div><strong><span style="color: #006633">Hosted by: </span></strong></div><div><strong><span style="color: #006633">Kat&rsquo\;s Bags\, Scentsy\, Tastefully Simple\, Tupperware\, Usborne Books</span></strong></div>
LOCATION:
UID:e.41.1491
SEQUENCE:3
DTSTAMP:20260425T205249Z
URL:https://business.beatricechamber.com/events/details/holiday-open-house-11-01-2009-1491
END:VEVENT

END:VCALENDAR
