BEGIN:VCALENDAR
VERSION:2.0
PRODID:-//ChamberMaster//Event Calendar 2.0//EN
METHOD:PUBLISH
X-PUBLISHED-TTL:P3D
REFRESH-INTERVAL:P3D
CALSCALE:GREGORIAN
BEGIN:VEVENT
DTSTART;VALUE=DATE:20101105
DTEND;VALUE=DATE:20101108
TRANSP:TRANSPARENT
X-MICROSOFT-CDO-ALLDAYEVENT:TRUE
SUMMARY:Holiday Open House
DESCRIPTION:6th Annual Holiday Open House\n\n	\n\n	When: Friday\, November 5th  3-6PM\n\n	             Saturday\, November 6th  10AM-6PM\n\n	              Sunday\, November 7th  Noon-4PM\n\n	\n\n	Where: Carol's Country Crafts\n\n	203 North Street\n\n	Pickrell\, NE\n\n	\n\n	Many Holiday & Gift Items! Floral\, Hand Crafts\, Ceramics\, Door Prizes & Much More!
X-ALT-DESC;FMTTYPE=text/html:<p>\n	<strong><span style="font-size: 14px">6th Annual Holiday Open House</span><br />\n	<br />\n	When: </strong>Friday\, November 5th&nbsp\; 3-6PM<br />\n	&nbsp\;&nbsp\;&nbsp\;&nbsp\;&nbsp\;&nbsp\;&nbsp\;&nbsp\;&nbsp\;&nbsp\;&nbsp\;&nbsp\;&nbsp\;Saturday\, November 6th&nbsp\; 10AM-6PM<br />\n	&nbsp\;&nbsp\;&nbsp\;&nbsp\;&nbsp\;&nbsp\;&nbsp\;&nbsp\;&nbsp\;&nbsp\;&nbsp\;&nbsp\;&nbsp\;&nbsp\;Sunday\, November 7th&nbsp\; Noon-4PM<br />\n	<br />\n	<strong>Where: <u>Carol&#39\;s Country Crafts</u></strong><br />\n	203 North Street<br />\n	Pickrell\, NE<br />\n	<br />\n	Many Holiday &amp\;&nbsp\;Gift Items! Floral\, Hand Crafts\, Ceramics\, Door Prizes &amp\; Much More!<br />\n	&nbsp\;</p>\n
LOCATION:
UID:e.41.2761
SEQUENCE:3
DTSTAMP:20260425T032530Z
URL:https://business.beatricechamber.com/events/details/holiday-open-house-11-05-2010-2761
END:VEVENT

END:VCALENDAR
