BEGIN:VCALENDAR
VERSION:2.0
PRODID:-//ChamberMaster//Event Calendar 2.0//EN
METHOD:PUBLISH
X-PUBLISHED-TTL:P3D
REFRESH-INTERVAL:P3D
CALSCALE:GREGORIAN
BEGIN:VEVENT
DTSTART;VALUE=DATE:20111110
DTEND;VALUE=DATE:20111113
TRANSP:TRANSPARENT
X-MICROSOFT-CDO-ALLDAYEVENT:TRUE
SUMMARY:Holiday Open House
DESCRIPTION:Frosted Holiday Open House\n\n\n\nThursday - Saturday\n\nNovember 10 -12\n\n\n\nThe Flower Shop\n\nIndian Creek Mall\, Beatrice\, NE\n\n\n\n402-223-5202\n\nwww.flowershopbeatrice.com\n\n\n\n20% off storewide.  Shop our holiday store and enjoy Giveaways and refreshments!
X-ALT-DESC;FMTTYPE=text/html:Frosted Holiday Open House<br />\n<br />\nThursday - Saturday<br />\nNovember 10 -12<br />\n<br />\nThe Flower Shop<br />\nIndian Creek Mall\, Beatrice\, NE<br />\n<br />\n402-223-5202<br />\nwww.flowershopbeatrice.com<br />\n<br />\n20% off storewide.&nbsp\; Shop our holiday store and enjoy Giveaways and refreshments!
LOCATION:
UID:e.41.5249
SEQUENCE:3
DTSTAMP:20260424T100047Z
URL:https://business.beatricechamber.com/events/details/holiday-open-house-11-10-2011-5249
END:VEVENT

END:VCALENDAR
