BEGIN:VCALENDAR
VERSION:2.0
PRODID:-//ChamberMaster//Event Calendar 2.0//EN
METHOD:PUBLISH
X-PUBLISHED-TTL:P3D
REFRESH-INTERVAL:P3D
CALSCALE:GREGORIAN
BEGIN:VEVENT
DTSTART:20111130T200000Z
DTEND:20111201T000000Z
X-MICROSOFT-CDO-ALLDAYEVENT:FALSE
SUMMARY:Holiday Open House
DESCRIPTION:AseraCare Hospice\n\n200 N 24th Suite A\n\nBeatrice\, NE \n\nIn honor of the holidays and National Hospice month
X-ALT-DESC;FMTTYPE=text/html:AseraCare Hospice<br />\n200 N 24th Suite A<br />\nBeatrice\, NE&nbsp\;<br />\nIn honor of the holidays and National Hospice month
LOCATION:
UID:e.41.5258
SEQUENCE:3
DTSTAMP:20260424T100048Z
URL:https://business.beatricechamber.com/events/details/holiday-open-house-11-30-2011-5258
END:VEVENT

END:VCALENDAR
