BEGIN:VCALENDAR
VERSION:2.0
PRODID:-//ChamberMaster//Event Calendar 2.0//EN
METHOD:PUBLISH
X-PUBLISHED-TTL:P3D
REFRESH-INTERVAL:P3D
CALSCALE:GREGORIAN
BEGIN:VEVENT
DTSTART;VALUE=DATE:20101222
DTEND;VALUE=DATE:20101223
TRANSP:TRANSPARENT
X-MICROSOFT-CDO-ALLDAYEVENT:TRUE
SUMMARY:Holiday Open House
DESCRIPTION:Homestead House Holiday Open House\n\n\n\nWednesday\, December 22\n\n2 - 4 p.m.\n\n\n\n2300 Lincoln Street\, Beatrice\n\n\n\nThe first 30 guests will receive a free gift hand-made by the Homestead House residents.  Refreshments will also be served.\n\n\n\nAt 2:15 p.m.\, entertainment will be provided by singer/songwriter Rick Stanley\, who has performed for over 30 years throughout the US and Europe.\n\n\n\nFor more information\, contact Lori Johnson\, residence sales manager or Beth Schuster\, residence director at 402-223-3287 or visit www.alcco.com
X-ALT-DESC;FMTTYPE=text/html:<strong><span style="font-size: 14px">Homestead House Holiday Open House<br />\n<br />\nWednesday\, December 22<br />\n2 - 4 p.m.<br />\n<br />\n2300 Lincoln Street\, Beatrice</span></strong><br />\n<br />\nThe first 30 guests will receive a free gift hand-made by the Homestead House residents.&nbsp\; Refreshments will also be served.<br />\n<br />\nAt 2:15 p.m.\, entertainment will be provided by singer/songwriter Rick Stanley\, who has performed for over 30 years throughout the US and Europe.<br />\n<br />\nFor more information\, contact Lori Johnson\, residence sales manager or Beth Schuster\, residence director at 402-223-3287 or visit www.alcco.com<br />\n
LOCATION:
UID:e.41.2924
SEQUENCE:3
DTSTAMP:20260425T014258Z
URL:https://business.beatricechamber.com/events/details/holiday-open-house-12-22-2010-2924
END:VEVENT

END:VCALENDAR
