BEGIN:VCALENDAR
VERSION:2.0
PRODID:-//ChamberMaster//Event Calendar 2.0//EN
METHOD:PUBLISH
X-PUBLISHED-TTL:P3D
REFRESH-INTERVAL:P3D
CALSCALE:GREGORIAN
BEGIN:VEVENT
DTSTART;VALUE=DATE:20091105
DTEND;VALUE=DATE:20091108
TRANSP:TRANSPARENT
X-MICROSOFT-CDO-ALLDAYEVENT:TRUE
SUMMARY:Holiday Open Houses
DESCRIPTION:It's a weekend full of Holiday Open Houses!!!Stop by for all of your holiday shopping needs at: Starlight Candles & GiftsHeartland GiftsClaubaugh PharmacyCranbery Junction
X-ALT-DESC;FMTTYPE=text/html:<div>It's a weekend full of Holiday Open Houses!!!</div><div>Stop by for all of your holiday shopping needs at:</div><div>&nbsp\;</div><div>Starlight Candles &amp\;&nbsp\;Gifts</div><div>Heartland Gifts</div><div>Claubaugh Pharmacy</div><div>Cranbery Junction</div><div>&nbsp\;</div>
LOCATION:
UID:e.41.1479
SEQUENCE:3
DTSTAMP:20260425T204934Z
URL:https://business.beatricechamber.com/events/details/holiday-open-houses-11-05-2009-1479
END:VEVENT

END:VCALENDAR
