BEGIN:VCALENDAR
VERSION:2.0
PRODID:-//ChamberMaster//Event Calendar 2.0//EN
METHOD:PUBLISH
X-PUBLISHED-TTL:P3D
REFRESH-INTERVAL:P3D
CALSCALE:GREGORIAN
BEGIN:VEVENT
DTSTART;VALUE=DATE:20091206
DTEND;VALUE=DATE:20091207
TRANSP:TRANSPARENT
X-MICROSOFT-CDO-ALLDAYEVENT:TRUE
SUMMARY:Holiday Tour of Homes - Soroptimist International
DESCRIPTION:Annual Holiday Tour of HomesSunday\, December 6\, 20091:00 - 4:00 p.m.  Each Home     $5.00 per personAll Homes     $12.50 per person                 or two for $20.00   Soroptimist International of Beatrice is a 501 (c) (3) non-profit organization. The cost of the tour may be deducted from taxes as a charitable contribution.   Funds raised by the Beatrice Club are used for local programs including St. John's Food Pantry\, Habitat for Humanity\,       Beatrice Community Hospital Ready-Set-Go Clinic and the Health Fair\, Women's Opportunity Award\, High School and Southeast Community College Scholarships. Door Prizes: Drawings at 4:30 pm Quilt Raffle Tickets available for drawing in January 2010
X-ALT-DESC;FMTTYPE=text/html:<div><div style="margin: 0in 0in 0pt" align="center"><span style="font-size: x-large">Annual Holiday Tour of Homes</span></div><div style="margin: 0in 0in 0pt" align="center"><span style="font-size: 22pt">Sunday\, December 6\, 2009</span></div><div style="margin: 0in 0in 0pt" align="center"><span style="font-size: 22pt">1:00&nbsp\;-&nbsp\;4:00 p.m.</span></div><div>&nbsp\;</div><div>&nbsp\;</div><div><div style="margin: 0in 0in 0pt"><span style="font-size: 18pt\; color: blue">Each Home&nbsp\;&nbsp\;&nbsp\;&nbsp\; $5.00 per person</span></div><div style="margin: 0in 0in 0pt"><b><span style="font-size: 18pt\; color: blue">All Homes</span></b><span style="font-size: 14pt\; color: blue">&nbsp\;&nbsp\;&nbsp\;&nbsp\; </span><b><span style="font-size: 18pt\; color: blue">$12.50 per person&nbsp\;</span></b></div><div style="margin: 0in 0in 0pt"><b><span style="font-size: 18pt\; color: blue">&nbsp\;&nbsp\;&nbsp\;&nbsp\;&nbsp\;&nbsp\;&nbsp\;&nbsp\;&nbsp\;&nbsp\;&nbsp\;&nbsp\;&nbsp\;&nbsp\;&nbsp\; or&nbsp\;two for $20.00</span></b></div><div style="margin: 0in 0in 0pt"><b>&nbsp\;</b></div><div style="margin: 0in 0in 0pt">&nbsp\;</div><div style="margin: 0in 0in 0pt">&nbsp\;</div><div style="margin: 0in 0in 0pt"><span style="font-size: 14pt">Soroptimist International of Beatrice is a 501 (c) (3) non-profit organization.&nbsp\;The cost of the tour may be deducted from taxes as a charitable contribution.</span></div><div style="margin: 0in 0in 0pt">&nbsp\;</div><div style="margin: 0in 0in 0pt">&nbsp\;</div><div style="margin: 0in 0in 0pt">&nbsp\;</div><div style="margin: 0in 0in 0pt"><span style="font-size: 14pt\; color: #009900">Funds raised by the Beatrice Club are used for local programs including St. John&rsquo\;s Food Pantry\, Habitat for Humanity\,&nbsp\;&nbsp\;&nbsp\;&nbsp\;&nbsp\;&nbsp\; Beatrice Community Hospital Ready-Set-Go Clinic and the Health Fair\, Women&rsquo\;s Opportunity Award\, High School and Southeast Community College Scholarships.</span></div><div style="margin: 0in 0in 0pt">&nbsp\;</div><div style="margin: 0in 0in 0pt"><b><span style="font-size: 17pt\; color: red">Door Prizes: </span></b><span style="font-size: 17pt\; color: red">Drawings at 4:30 pm</span></div><div style="margin: 0in 0in 0pt">&nbsp\;</div><div style="margin: 0in 0in 0pt"><span style="font-size: 16pt">Quilt Raffle Tickets available for drawing in January 2010</span></div><div>&nbsp\;</div><div>&nbsp\;</div><div>&nbsp\;</div></div></div>
LOCATION:Ron and Julie Belding1114 Lakeview LaneWhispering Pines Estates(13th & Lilac\, south of Country Club) Tom and Kathie Hawkins701 N 9th St Kathy and Randy Diekman584 Northview Lane\, Bear Creek(From 19th & Dorsey\, m E\, m N\, 3rd Road\, 3rd house) Sharil Prall 806 N 9th St Refreshments served at Soroptimist House901 N 6th St
UID:e.41.1529
SEQUENCE:3
DTSTAMP:20260425T194704Z
URL:https://business.beatricechamber.com/events/details/holiday-tour-of-homes-soroptimist-international-12-06-2009-1529
END:VEVENT

END:VCALENDAR
