BEGIN:VCALENDAR
VERSION:2.0
PRODID:-//ChamberMaster//Event Calendar 2.0//EN
METHOD:PUBLISH
X-PUBLISHED-TTL:P3D
REFRESH-INTERVAL:P3D
CALSCALE:GREGORIAN
BEGIN:VEVENT
DTSTART:20120225T200000Z
DTEND:20120226T213000Z
X-MICROSOFT-CDO-ALLDAYEVENT:FALSE
SUMMARY:Hollywood and Homesteading Film Festival: "Abilene Town"
DESCRIPTION:"Abilene Town" film synopsis: In the years following the Civil War\, the townpeople of Abilene\, Kansas deal with conflicts between homesteaders and cattlemen over the land.
X-ALT-DESC;FMTTYPE=text/html:&quot\;Abilene Town&quot\; film synopsis: In the years following the Civil War\, the townpeople of Abilene\, Kansas deal with conflicts between homesteaders and cattlemen over the land. 
LOCATION:Homestead National Monument of America's Education Center
UID:e.41.5341
SEQUENCE:3
DTSTAMP:20260422T185808Z
URL:https://business.beatricechamber.com/events/details/hollywood-and-homesteading-film-festival-abilene-town-02-25-2012-5341
END:VEVENT

END:VCALENDAR
