BEGIN:VCALENDAR
VERSION:2.0
PRODID:-//ChamberMaster//Event Calendar 2.0//EN
METHOD:PUBLISH
X-PUBLISHED-TTL:P3D
REFRESH-INTERVAL:P3D
CALSCALE:GREGORIAN
BEGIN:VEVENT
DTSTART;VALUE=DATE:20101104
DTEND;VALUE=DATE:20101105
TRANSP:TRANSPARENT
X-MICROSOFT-CDO-ALLDAYEVENT:TRUE
SUMMARY:"Hollywood Arms\," first in Appetizers readers Theater Series
DESCRIPTION:When: 7:30 p.m.\n\n	\n\n	Where: Community Players\n\n	             412 Ella\, Beatrice\n\n	\n\n	Set in California in in 1941 and 1951\, " Hollywood Arms" is the story of three generations of women living on welfare in a one-room apartment\, one block north of Hollywood Boulevard.\n\n	\n\n	Tickets: $5 at the door beginning 1 hour before show time.\n\n	appetizers series tickets: $10.
X-ALT-DESC;FMTTYPE=text/html:<p>\n	<strong>When: 7:30 p.m.<br />\n	<br />\n	Where: Community Players<br />\n	&nbsp\;&nbsp\;&nbsp\;&nbsp\;&nbsp\;&nbsp\;&nbsp\;&nbsp\;&nbsp\;&nbsp\;&nbsp\;&nbsp\; 412 Ella\, Beatrice<br />\n	<br />\n	Set in California in in 1941 and 1951\, &quot\; Hollywood Arms&quot\; is the story of three generations of women living on welfare in a one-room apartment\, one block north of Hollywood Boulevard.<br />\n	<br />\n	Tickets: $5 at the door beginning 1 hour before show time.<br />\n	appetizers series tickets: $10.</strong></p>\n
LOCATION:
UID:e.41.2784
SEQUENCE:3
DTSTAMP:20260425T033038Z
URL:https://business.beatricechamber.com/events/details/hollywood-arms-first-in-appetizers-readers-theater-series-11-04-2010-2784
END:VEVENT

END:VCALENDAR
