BEGIN:VCALENDAR
VERSION:2.0
PRODID:-//ChamberMaster//Event Calendar 2.0//EN
METHOD:PUBLISH
X-PUBLISHED-TTL:P3D
REFRESH-INTERVAL:P3D
CALSCALE:GREGORIAN
BEGIN:VEVENT
DTSTART;VALUE=DATE:20100529
DTEND;VALUE=DATE:20100530
TRANSP:TRANSPARENT
X-MICROSOFT-CDO-ALLDAYEVENT:TRUE
SUMMARY:Holmesville School Reunion 2010
DESCRIPTION:Holmesville School Reunion 2010 Saturday\, May 29\, 2010Valentino's\, 7th & Court Street\, Beatrice Reservations\, with payment\, may be sent to one of the following committee members:  Roger Huls\, 1718 Sara Rd.\, Beatrice\, NE 68310\; or Clair Duensing\, 1001 Sharon Rd.\, Beatrice\, NE  68310. The menu choices are Monterey chicken or Windsor pork chop.  Meal cost of $13.75 per person and is all-inclusive.  Checks should be made payable to: Holmesville Alumni Association.  Include your name and choice of menu item with your reservation.  Deadline is May 25. For more information contact Huls at 223-4264 or Duensing at 228-0340.
X-ALT-DESC;FMTTYPE=text/html:<div><span style="font-size: small">Holmesville School Reunion 2010</span></div><div>&nbsp\;</div><div><span style="font-size: small">Saturday\, May 29\, 2010</span></div><div><span style="font-size: small">Valentino's\, 7th &amp\;&nbsp\;Court Street\, Beatrice</span></div><div>&nbsp\;</div><div>Reservations\, with payment\, may be sent to one of the following committee members:&nbsp\; Roger Huls\, 1718 Sara Rd.\, Beatrice\, NE 68310\; or Clair Duensing\, 1001 Sharon Rd.\, Beatrice\, NE&nbsp\; 68310.</div><div>&nbsp\;</div><div>The menu choices are Monterey chicken or Windsor pork chop.&nbsp\; Meal cost of $13.75 per person and is all-inclusive.&nbsp\; Checks should be made payable to: Holmesville Alumni Association.&nbsp\; Include your name and choice of menu item with your reservation.&nbsp\; Deadline is May 25.</div><div>&nbsp\;</div><div>For more information contact Huls at 223-4264 or Duensing at 228-0340.</div>
LOCATION:
UID:e.41.1961
SEQUENCE:3
DTSTAMP:20260425T122803Z
URL:https://business.beatricechamber.com/events/details/holmesville-school-reunion-2010-05-29-2010-1961
END:VEVENT

END:VCALENDAR
