BEGIN:VCALENDAR
VERSION:2.0
PRODID:-//ChamberMaster//Event Calendar 2.0//EN
METHOD:PUBLISH
X-PUBLISHED-TTL:P3D
REFRESH-INTERVAL:P3D
CALSCALE:GREGORIAN
BEGIN:VEVENT
DTSTART:20090721T140000Z
DTEND:20090721T150000Z
X-MICROSOFT-CDO-ALLDAYEVENT:FALSE
SUMMARY:Home Instead Celebration & Presentation
DESCRIPTION:Home Instead Senior Care honored by Experience Works Public is invited\, along with Rep Jeff Fortenberry\,to attend a celebration and certificate presentation for the nominationat Home Instead Senior Care 514 Court StTuesday\, July 21 at 9:00 am
X-ALT-DESC;FMTTYPE=text/html:<div>Home Instead Senior Care honored by Experience Works</div><div>&nbsp\;</div><div>Public is invited\, along with Rep Jeff Fortenberry\,</div><div>to attend a celebration and certificate presentation for the nomination</div><div>at Home Instead Senior Care 514 Court St</div><div>Tuesday\, July 21 at 9:00 am</div>
LOCATION:
UID:e.41.1317
SEQUENCE:3
DTSTAMP:20260426T024034Z
URL:https://business.beatricechamber.com/events/details/home-instead-celebration-presentation-07-21-2009-1317
END:VEVENT

END:VCALENDAR
