BEGIN:VCALENDAR
VERSION:2.0
PRODID:-//ChamberMaster//Event Calendar 2.0//EN
METHOD:PUBLISH
X-PUBLISHED-TTL:P3D
REFRESH-INTERVAL:P3D
CALSCALE:GREGORIAN
BEGIN:VEVENT
DTSTART:20120129T180000Z
DTEND:20120129T200000Z
X-MICROSOFT-CDO-ALLDAYEVENT:FALSE
SUMMARY:~Homeless Awareness Demonstration~
DESCRIPTION:The Homeless Awareness Demonstration is a peaceful assembly of supporters of New Hope Community Homeless Shelter. We will be gathering at 6th & Court In Beatrice & carrying signs that read. "We are Homeless-Do you see us-Support New Hope Community Homeless Shelter. Help us end the cycle of homelessness & show the need & support for Homeless Prevention in our community!
X-ALT-DESC;FMTTYPE=text/html:The Homeless Awareness Demonstration is a peaceful assembly of supporters of New Hope Community Homeless Shelter. We will be gathering at 6th &amp\; Court In Beatrice &amp\; carrying signs that read. &quot\;We are Homeless-Do you see us-Support New Hope Community Homeless Shelter. Help us end the cycle of homelessness &amp\; show the need &amp\; support for Homeless Prevention in our community!
LOCATION:6th & Court Beatrice NE\, 68310
UID:e.41.5284
SEQUENCE:3
DTSTAMP:20260422T202021Z
URL:https://business.beatricechamber.com/events/details/homeless-awareness-demonstration-01-29-2012-5284
END:VEVENT

END:VCALENDAR
