BEGIN:VCALENDAR
VERSION:2.0
PRODID:-//ChamberMaster//Event Calendar 2.0//EN
METHOD:PUBLISH
X-PUBLISHED-TTL:P3D
REFRESH-INTERVAL:P3D
CALSCALE:GREGORIAN
BEGIN:VEVENT
DTSTART;VALUE=DATE:20120714
DTEND;VALUE=DATE:20120715
TRANSP:TRANSPARENT
X-MICROSOFT-CDO-ALLDAYEVENT:TRUE
SUMMARY:Homestead Auto Glass Grand Opening
DESCRIPTION:Grand Opening Celebration\n\n1420 Court St.\n\nstop by to visit them and register for prizes
X-ALT-DESC;FMTTYPE=text/html:Grand Opening Celebration<br />\n1420 Court St.<br />\nstop by to visit them and register for prizes
LOCATION:
UID:e.41.6313
SEQUENCE:3
DTSTAMP:20260422T114212Z
URL:https://business.beatricechamber.com/events/details/homestead-auto-glass-grand-opening-07-14-2012-6313
END:VEVENT

END:VCALENDAR
